Workbook
Name _xlchart.v1.1: 'Grėsmių vertinimo matrica'!$B$25:$B$33
Name _xlchart.v1.3: 'Grėsmių vertinimo matrica'!$C$25:$C$33
Name _1.1_versija_2025_10_15__Cybernetica__D_16_585____D_16_573_1.1_versijos_vertimas: 'Įvadas (0)'!$A$3
Name _xlchart.v1.2: 'Grėsmių vertinimo matrica'!$C$24
Name _xlchart.v1.0: 'Grėsmių vertinimo matrica'!$B$24

Sheet Įvadas (0)
A2: DI šališkumo vertinimo darbaknygė
A3: ='Įvadas (0)'!A41 -> Versija 1.1 (2025-10-15, Cybernetica, D-16-585) – D-16-573 versijos 1.1 vertimas
A5: Ši darbaknygė sukurta kaip paprastai naudojamas įrankis analizuojant DI sistemoje pasireiškiantį šališkumą.
A6: Darbaknygę numatyta naudoti kartu su gairių ir metodikos dokumentais.
A8: Darbo eiga
A9: 1) Užpildykite darbo lapo „DI sistemos pasas“ 1–4 skirsnius.
A10: 2) Į darbo lapo „DI sistemos pasas“ 5 skirsnį įrašykite techninius duomenis (jei turite).
A11: 3) Išvardykite savo DI sistemos naudojimo scenarijus darbo lapo „DI naudojimo scenarijai“ 5 skirsnyje.
A12: 4) Kiekvienam naudojimo scenarijui nukopijuokite darbo lapą „DI naudojimo scenarijus A (nukopijuokite mane!)“.
A13: 5) Pervadinkite kiekvieną nukopijuotą darbo lapą pagal konkretų scenarijų (raidės A–I). Surūšiuokite juos abėcėlės tvarka.
A14: 6) Įsitikinkite, kad kiekvieno naudojimo scenarijaus darbo lapo langelyje A5 būtų įrašyta raidė, atitinkanti to darbo lapo pavadinimą.
A15: 7) Užpildykite išsamius aprašymus kiekviename DI naudojimo scenarijų darbo lape.
A16: 8) Įvardykite galimus grėsmių scenarijus ir aprašykite juos darbo lape „Apsvarstytos grėsmės“ (7). Jei įvardijamos daugiau nei 9 grėsmės, atitinkamai pridėkite eilučių.
A17: 9) Preliminariai atrinkite vertintinas grėsmes ir nukopijuokite jas į darbo lapą „Įvertintos grėsmės (G)“.
... A42: Versija 1.0 (2025-07-23, Cybernetica, D-16-585) – D-16-573 versijos 1.0 vertimas

Sheet DI sistemos pasas (1-5)
A2: DI sistemos, kurios atžvilgiu atliekamas šališkumo vertinimas, pasas
A3: ='Įvadas (0)'!A41 -> Versija 1.1 (2025-10-15, Cybernetica, D-16-585) – D-16-573 versijos 1.1 vertimas
A5: 1 | B5: DI ir (arba) algoritminės sistemos aprašymas
A6: 1.1 | B6: Trumpas pavadinimas | D6: Santrumpa arba trumpas pavadinimas
A7: 1.2 | B7: Visas pavadinimas | D7: Visas pavadinimas (jei yra)
A8: 1.3 | B8: Versija | D8: Versijos numeris arba data (MMMM-MM-DD)
A9: 1.4 | B9: Pramonės šaka | D9: Viešosios paslaugos, sveikatos priežiūra, finansai, teisinės konsultacijos, teisėsauga ir kt.
A10: 1.5 | B10: Operatorius | D10: Sistemos prieglobos organizacija (priklausomai nuo situacijos, taip pat kūrėjas, diegėjas, integruotojas, paslaugos savininkas ir kt.)
A11: 1.x | B11: Nuorodos ir šaltiniai | D11: Nuorodos į paslaugą ar programėlę, susijusius teisės aktus; nuorodos į dokumentų valdymo sistemą, susijusių dokumentų pavadinimai
A15: 2 | B15: Su DI ir (arba) algoritmine sistema susijusios šalys
A16: 2.1 | B16: Tiekėjas, paslaugų teikėjas | D16: Organizacija, kuri pateikė DI sistemą į rinką arba taiko ją savo produkte, kaip apibrėžta ES DI akte.
A17: 2.2 | B17: Diegėjas | D17: Organizacija, kuri faktiškai valdo DI sistemą, jei ji skiriasi nuo paslaugų teikėjo, kaip apibrėžta ES DI akte.
A18: 2.3 | B18: Importuotojas ir (arba) platintojas (jei yra) | D18: Konkrečios DI sistemos technologijos atstovas arba importuotojas, kaip apibrėžta ES DI akte.
A19: 2.4 | B19: Plėtros partneriai (jei yra) | D19: Sistemos, kurioje naudojamas DI modelis ar algoritmas, kuriančio partnerio pavadinimas, atsakomybė ir darbo trukmė, pvz., sutartis su kūrėju, integruotoju, konsultantu.
A20: 2.5
A21: 2.6
A22: 2.7 | B22: Pagrindiniai asmenys, kuriems daromas poveikis | D22: Naudotojai, apdorojantys DI sistemos išvestis. Asmenys, kurių atžvilgiu sprendimai priimami automatizuotu būdu ir pan. Tai gali būti, pvz., populiacijos grupė arba paslaugų naudotojų grupė.
A23: 2.8
A24: 2.9
A25: 2.x | B25: Nuorodos ir šaltiniai | D25: Nuorodos į medžiagą, naudotą šiam skirsniui užpildyti
A29: 3 | B29: DI ir (arba) algoritminės sistemos tikslai
A30: 3.1 | B30: Tiesioginiai tikslai (trys ar mažiau) | D30: Kokią funkciją (t. y. kokias algoritminio sprendimų priėmimo ar duomenų generavimo užduotis) turi atlikti DI sistema?
A31: 3.2
A32: 3.3
A33: 3.4 | B33: Netiesioginiai tikslai (trys ar mažiau) | D33: Kokius pokyčius DI sistema yra sukurta paremti paslaugų operatoriaus organizacijoje ar visuomenėje? Efektyvumą? Sąžiningumą?
A34: 3.5
A35: 3.6
A36: 3.7 | B36: DI sistemos tikslų veiklos efektyvumo metrikos (jei apibrėžtos; trys ar mažiau). | D36: Pvz.: 60 proc. mažesnės sąnaudos, susijusios su tam tikrų rūšių darbuotojais, 80 proc. mažiau sukčiavimo atvejų, 20 proc. daugiau nustatytų pažeidimų.
A37: 3.8
A38: 3.9
A39: 3.x | B39: Nuorodos ir šaltiniai | D39: Nuorodos į paslaugą ar programėlę, nuorodos į tvarkomus dokumentus, dokumentų pavadinimai
A43: 4 | B43: Kontaktiniai duomenys
A44: 4.1 | B44: Paslaugos savininkas (jei yra) | D44: Įmonės savininkas, gebantis paaiškinti ir pagrįsti veiklos poreikius ir tikslus – el. paštas ir (arba) telefono numeris
A45: 4.2 | B45: Technikos specialistas (jei yra) | D45: DI sistemos techninės priežiūros vykdytojo ar veiklos vykdytojo technikos ekspertas – el. paštas ir (arba) telefono numeris
A46: 4.3 | B46: Sistemą valdanti organizacija (jei yra) | D46: Organizacija, kuri užtikrina sistemos veikimą, prižiūri infrastruktūrą ir pan. – el. paštas ir (arba) telefono numeris
A47: 4.4 | B47: Teisės specialistas (jei yra) | D47: Pagrindinis asmuo teisinių reikalavimų ir sutarčių klausimais – el. paštas ir (arba) telefono numeris
A48: 4.5 | B48: Rizikos valdymo vadybininkas (jei yra) | D48: Svarbus asmuo saugumo ir rizikos valdymo klausimais – el. paštas ir (arba) telefono numeris
A49: 4.6 | B49: Tiekėjo ir kūrėjo (jei yra) kontaktiniai duomenys | D49: Sistemos kūrėjo kontaktiniai duomenys – el. paštas ir (arba) telefono numeris
A50: 4.7 | B50: Kiti svarbūs kontaktiniai duomenys (jei yra) | D50: Jei norite pateikti papildomus kontaktinius duomenis, prašome pridėti komentarą, kodėl šis asmuo yra svarbus.
A52: 5 | B52: DI ir (arba) algoritminės sistemos techniniai duomenys
A53: 5.1 | B53: Sistemos rūšis | D53: Programėlė, internetinė programa, API, darbalaukio programa, bet kokia specialios paskirties aparatinė įranga
A54: 5.2 | B54: Sistemos vizija (jei yra) | D54: Nuorodos į dokumentus, „Vikipedijos“ puslapius ir kitus šaltinius
A55: 5.3 | B55: Sistemos reikalavimai (jei apibrėžti) | D55: Nuorodos į dokumentus (funkciniai, nefunkciniai, etiniai, teisiniai reikalavimai), „Vikipedijos“ puslapius ir kitus šaltinius
A56: 5.4 | B56: Sistemos rizikos analizė (jei yra) | D56: Nuorodos į dokumentus (saugumo rizikos analizė, kita poveikio analizė), „Vikipedijos“ puslapius ir kitus šaltinius
A57: 5.5 | B57: Sistemos teisinis pagrindas (jei apibrėžtas) | D57: Nuorodos į dokumentus (reglamentavimas, teisinės atitikties analizė), „Vikipedijos“ puslapius ir kitus šaltinius
A58: 5.6 | B58: Sistemos architektūra (jei apibrėžta) | D58: Nuorodos į dokumentus, „Vikipedijos“ puslapius ir kitus šaltinius
A59: 5.7 | B59: Sistemos diegimo aprašymas (jei yra) | D59: Nuorodos į dokumentus, „Vikipedijos“ puslapius ir kitus šaltinius
A60: 5.8 | B60: Sistemos bandymų protokolai (jei yra) | D60: Nuorodos į protokolus (funkcinių, įsilaužimo ar kitų bandymų), „Vikipedijos“ puslapius ir kitus šaltinius
A61: 5.9 | B61: Sistemos audito ataskaitos (jei parengtos) | D61: Nuorodos į auditoriaus išvadas, susijusias su atitiktimi standartams (E-ITS, ISO/IEC, PCI DSS ir kt.), „Vikipedijos“ puslapius ir kitus šaltinius

Sheet DI naudojimo scenarijai (6)
A2: DI arba algoritminio sprendimų priėmimo naudojimo scenarijų sąrašas
A3: ='Įvadas (0)'!A41 -> Versija 1.1 (2025-10-15, Cybernetica, D-16-585) – D-16-573 versijos 1.1 vertimas
A5: 6 | B5: Naudojimo scenarijai
A6: 6.1 | B6: A naudojimo scenarijaus pavadinimas | D6: Pirmasis naudojimo scenarijus (pvz., „kalbos atpažinimo naudojimas klientų skundams nagrinėti“)
A7: 6.2 | B7: B naudojimo scenarijaus pavadinimas (jei yra) | D7: Antrasis naudojimo scenarijus (pvz., „sąskaitų atitikties reikalavimams tikrinimas, apimantis dokumentų analizę“)
A8: 6.3 | B8: C naudojimo scenarijaus pavadinimas (jei yra) | D8: Trečiasis naudojimo scenarijus (pvz., „automatinis elektroninių laiškų sudarymas“)
A9: 6.4 | B9: D naudojimo scenarijaus pavadinimas (jei yra) | D9: Ketvirtasis naudojimo scenarijus (pvz., „automatinis sąlygų gauti pašalpą tikrinimas“)
A10: 6.5 | B10: E naudojimo scenarijaus pavadinimas (jei yra) | D10: Penktasis naudojimo scenarijus (pvz., „automatinis administracinių bylų nagrinėjimas“)
A11: 6.6 | B11: F naudojimo scenarijaus pavadinimas (jei yra) | D11: Šeštasis naudojimo scenarijus (pvz., „automatizuotas sprendimų priėmimas įdarbinimo ar atleidimo procedūrų metu“)
A12: 6.7 | B12: G naudojimo scenarijaus pavadinimas (jei yra) | D12: Septintasis naudojimo scenarijus (pvz., „sprendimų priėmimo pagalba įdarbinimo ar atleidimo procesuose“)
A13: 6.8 | B13: H naudojimo scenarijaus pavadinimas (jei yra) | D13: Aštuntasis naudojimo scenarijus (pvz., „psichinės sveikatos konsultacijos naudojant DI“)
A14: 6.9 | B14: I naudojimo scenarijaus pavadinimas (jei yra) | D14: Devintasis naudojimo scenarijus (pvz., „tarpusavio konfliktų viešojoje erdvėje nustatymas remiantis kamerų transliacijomis“)

Sheet DI naud. scenarijus A (nukopiju
A2: Naudojimo scenarijaus, kurio metu taikomas DI arba algoritminis sprendimų priėmimas, aprašymas
A3: ='Įvadas (0)'!A41 -> Versija 1.1 (2025-10-15, Cybernetica, D-16-585) – D-16-573 versijos 1.1 vertimas
A5: A | B5: Išsami naudojimo scenarijaus informacija
A6: =CONCAT($A$5,".1") -> A.1 | B6: Naudojimo scenarijaus pavadinimas | D6: Toks pat kaip DI naudojimo scenarijų sąraše
A7: =CONCAT($A$5,".2") -> A.2 | B7: Naudojimo scenarijaus iniciatorius | D7: Kas inicijuoja DI darbo eigą – asmuo ar informacinė sistema?
A8: =CONCAT($A$5,".3") -> A.3 | B8: Pradinis trigeris (įvykis) | D8: Koks įvykis ar sąlyga inicijuoja darbo eigą? Ar tai asmens veiksmai, ar gauta užklausa? Ar tai automatinis, ar reguliarus procesas?
A9: =CONCAT($A$5,".4") -> A.4 | B9: Įvesties duomenys DI komponentui | D9: Aprašykite DI teikiamus įvesties duomenis. Pvz.: „teksto žinutė“, „kameros vaizdas arba nuotrauka“, „skambučio įrašas su metaduomenimis“.
A10: =CONCAT($A$5,".5") -> A.5 | B10: DI apdorojimo tikslas | D10: Aprašykite užduotį, kurią DI komponentas turi atlikti su įvestais duomenimis. Pvz.: „atpažinti asmenį (-is)“, „parengti atsakymą į įvestą pranešimą, atsižvelgiant į metaduomenis“, „susintetinti kalbą, kad būtų galima atsakyti į užklausą“.
A11: =CONCAT($A$5,".6") -> A.6 | B11: DI komponento išvesties duomenys | D11: Aprašykite duomenis, kuriuos išveda DI. Pvz.: „teksto žinutė“, „garso failas“, „duomenų įrašas, kuriame pateikiami asmens duomenys“.
A12: =CONCAT($A$5,".7") -> A.7 | B12: Išvesties duomenų tolesnis apdorojimas | D12: Keliais sakiniais aprašykite, kaip bus naudojama DI išvestis. Ar sprendimas priimamas automatiškai, ar jį kas nors patikrina rankomis? Kaip vyksta patikrinimas? Kaip bus įgyvendintas galutinis sprendimas?
A13: =CONCAT($A$5,".X") -> A.X | B13: Nuorodos ir šaltiniai | D13: Nuorodos į paslaugą ar programėlę, susijusius teisės aktus; nuorodos į dokumentų valdymo sistemą, susijusių dokumentų pavadinimai.
A17: =CONCAT($A$5,$A$5) -> AA | B17: Išsamus įvesties duomenų aprašymas
A18: =CONCAT($A$17,".1") -> AA.1 | B18: Duomenų struktūra | D18: Aprašykite duomenų elementų turinį ir rūšis (pvz., „struktūrizuoti duomenys“, „tekstas“, „nuotraukos“, „garso įrašai“, „vaizdo įrašai“, „mobilumo duomenys“, „kiti biometriniai duomenys“, „kiti“).
A19: =CONCAT($A$17,".2") -> AA.2 | B19: Asmens tapatybę atskleidžianti informacija | D19: Išvardykite duomenų elementus, kurie tiesiogiai ar netiesiogiai naudojami asmens tapatybei nustatyti (asmens kodas, vardas ir pavardė, demografiniai duomenys, mobilumo duomenys ir kt.). Ar duomenys daro poveikį tik proceso dalyviams, ar taip pat ir tretiesiems asmenims?
A20: =CONCAT($A$17,".3") -> AA.3 | B20: Specialių kategorijų asmens duomenys | D20: Aprašykite duomenų elementus, kuriems taikomi specialūs reikalavimai (BDAR „specialių kategorijų“, „genomo duomenys“ ir pan.). Išvardykite visus asmenis, kuriems daromas poveikis.
A21: =CONCAT($A$17,".4") -> AA.4 | B21: Komercinės paslaptys ir konfidenciali informacija | D21: Išvardykite duomenų elementus, kurie gali būti susiję su komercinėmis paslaptimis ar konfidencialia informacija. Ar šie duomenys daro poveikį tik suinteresuotosioms šalims, ar taip pat ir tretiesiems asmenims?
A22: =CONCAT($A$17,".5") -> AA.5 | B22: Duomenų šaltinis | D22: Iš kur gaunami duomenys (tiesiogiai iš naudotojo, duomenys įvedami, iš kitos duomenų bazės, jutiklių, kamerų)?
A23: =CONCAT($A$17,".6") -> AA.6 | B23: Priemonės, skirtos įvestų duomenų vientisumui ir konfidencialumui užtikrinti | D23: Kaip tikrinama duomenų kokybė? Ar duomenys buvo išgryninti? Ar buvo įrašyti trūkstami duomenys? Ar asmens duomenys buvo pašalinti, apibendrinti, padaryti statistiškai sunkiau atpažįstami? Ar naudojami sintetiniai duomenys? Kokios PET arba informacijos saugos technologijos naudojamos? Kas pasitelkė šias technologijas ir pagal kokią metodiką?
A24: =CONCAT($A$17,".X") -> AA.X | B24: Nuorodos ir šaltiniai | D24: Nuorodos į paslaugą ar programėlę, susijusius teisės aktus; nuorodos į dokumentų valdymo sistemą, susijusių dokumentų pavadinimai.
A26: =CONCAT($A$5,$A$5,$A$5) -> #N/A | B26: DI komponento arba algoritmo aprašymas
A27: =CONCAT($A$26,".1") -> #N/A | B27: Naudojamo algoritmo arba mašininio mokymosi modelio pavadinimas | D27: Produkto pavadinimas, mokslinis modelio ar algoritmo pavadinimas (pvz., „EstGPT“, „Meta Prophet“, „OpenAI GPT 4o“)
A28: =CONCAT($A$26,".2") -> #N/A | B28: Versija ir sukūrimo metai | D28: Versijos numeris, sukūrimo metai
A29: =CONCAT($A$26,".3") -> #N/A | B29: Rūšis (algoritmo arba modelio) ir parametrai | D29: DI komponento klasifikacija (pvz.: linijinė regresija, stimulinio mokymosi modelis, neuroninis tinklas, sprendimų medis, DKM). Neuroninio tinklo parametrų skaičius, esminiai algoritmo parametrai, įskaitant algoritminio sprendimo priėmimo sąlygas
A30: =CONCAT($A$26,".4") -> #N/A | B30: Kilmė ir kūrėjas | D30: Ar tai yra organizacijos viduje sukurtas, ar įsigytas (įskaitant nemokamą) modelis? Kas yra modelio kūrėjas?
A31: =CONCAT($A$26,".5") -> #N/A | B31: Įgyvendinimo modelis | D31: Įdiegimas vietoje, debesijos paslauga, visapusiška paslauga ir pan.
A32: =CONCAT($A$26,".6") -> #N/A | B32: Modelio arba algoritmo sąsaja su sistema | D32: Aprašymas, kaip išvestis gaunama iš įvesties duomenų elementų. Jei įmanoma, aprašykite, kaip mašininio mokymosi modelis ar algoritmas veikia tarp įvesties ir išvesties duomenų. Ypač svarbu suprasti, kaip įvairios įvesties reikšmės gali paveikti algoritmo ar modelio veikimą.
A33: =CONCAT($A$26,".7") -> #N/A | B33: Tikslumo metrikos | D33: Dokumentuotos tikslumo metrikos (klaidingi teigiami rezultatai, klaidingi neigiami rezultatai, F1 vertė ir kt.).
A34: =CONCAT($A$26,".8") -> #N/A | B34: Taikomos šališkumo mažinimo priemonės | D34: Ką algoritmo ar modelio kūrėjai užfiksavo apie šališkumą?
A35: =CONCAT($A$26,".9") -> #N/A | B35: Bandymų rezultatai ir vertinimai | D35: Esami audito rezultatai, etiniai ir teisiniai vertinimai, bandymai, aplinkos ir energijos vartojimo vertinimai ir pan.
A36: =CONCAT($A$26,".X") -> #N/A | B36: Nuorodos ir šaltiniai | D36: Nuorodos į paslaugą ar programėlę, susijusius teisės aktus; nuorodos į dokumentų valdymo sistemą, susijusių dokumentų pavadinimai.
A38: =CONCAT($A$5,$A$5,$A$5,$A$5) -> #N/A | B38: Išvedinių naudojimas
A39: =CONCAT($A$38,".1") -> #N/A | B39: DI išvesties duomenų struktūra | D39: Aprašykite duomenų elementų turinį ir rūšis (pvz., „struktūrizuoti duomenys“, „tekstas“, „nuotraukos“, „garso įrašai“, „vaizdo įrašai“, „mobilumo duomenys“, „kiti biometriniai duomenys“, „kiti“).
A40: =CONCAT($A$38,".2") -> #N/A | B40: Asmens tapatybę atskleidžiantys išvediniai | D40: Išvardykite duomenų elementus, kurie tiesiogiai ar netiesiogiai naudojami asmens tapatybei nustatyti (asmens kodas, vardas ir pavardė, demografiniai duomenys, mobilumo duomenys ir kt.). Ar duomenys daro poveikį tik proceso dalyviams, ar taip pat ir tretiesiems asmenims?
A41: =CONCAT($A$38,".3") -> #N/A | B41: Specialių kategorijų asmens duomenys | D41: Aprašykite duomenų elementus, kuriems taikomi specialūs reikalavimai (BDAR „specialių kategorijų“, „genomo duomenys“ ir pan.). Išvardykite visus asmenis, kuriems daromas poveikis.
A42: =CONCAT($A$38,".4") -> #N/A | B42: Komercinės paslaptys ir konfidenciali informacija | D42: Išvardykite duomenų elementus, kurie gali būti susiję su komercinėmis paslaptimis ar konfidencialia informacija. Ar šie duomenys daro poveikį tik suinteresuotosioms šalims, ar taip pat ir tretiesiems asmenims?
A43: =CONCAT($A$38,".5") -> #N/A | B43: Išvesčių naudojimas, sprendimai, pagrįsti naudojimu | D43: Kaip bus naudojamos išvestys, kokie sprendimai bus priimami jų pagrindu? Ar išvestys bus skelbiamos? Kokios skaidrumo užtikrinimo priemonės yra taikomos?
A44: =CONCAT($A$38,".6") -> #N/A | B44: Priemonės, skirtos išvesties duomenų vientisumui ir konfidencialumui apsaugoti | D44: Kaip tikrinama duomenų kokybė? Ar duomenys buvo išgryninti? Ar buvo įrašyti trūkstami duomenys? Ar asmens duomenys buvo pašalinti, apibendrinti, padaryti statistiškai sunkiau atpažįstami? Ar naudojami sintetiniai duomenys? Kokios PET arba informacijos saugos technologijos naudojamos? Kas pasitelkė šias technologijas ir pagal kokią metodiką?
A45: =CONCAT($A$38,".X") -> #N/A | B45: Nuorodos ir šaltiniai | D45: Nuorodos į paslaugą ar programėlę, susijusius teisės aktus; nuorodos į dokumentų valdymo sistemą, susijusių dokumentų pavadinimai.

Sheet Apsvarstytos grėsmės (7)
A2: DI ir algoritmų keliamų grėsmių sąrašas
A3: ='Įvadas (0)'!A41 -> Versija 1.1 (2025-10-15, Cybernetica, D-16-585) – D-16-573 versijos 1.1 vertimas
A5: NB! Scenarijuje turi būti aiškiai aprašyta, kas sukelia žalą!
A7: 7 | B7: Galimos grėsmės
A8: 7.1 | B8: O1 galimos grėsmės scenarijus | D8: Trumpas vieno sakinio scenarijaus aprašymas. Pvz., „Netiksli pokalbio transkripcija sumažina paslaugos kokybę asmeniui“.
A9: 7.2 | B9: O2 galimos grėsmės scenarijus (jei yra) | D9: Trumpas vieno sakinio scenarijaus aprašymas. Pvz., „Teksto atpažinimo procedūra sąskaitų numerių tikrinimo metu neteisingai atpažįsta numerius, atspausdintus nestandartiniu šriftu“.
A10: 7.3 | B10: O3 galimos grėsmės scenarijus (jei yra) | D10: Trumpas vieno sakinio scenarijaus aprašymas. Pvz., „Naudotojo vardas ar demografiniai duomenys verčia MM modelį suformuoti neprofesionalų pranešimo ar el. laiško turinį“.
A11: 7.4 | B11: O4 galimos grėsmės scenarijus (jei yra) | D11: Trumpas vieno sakinio scenarijaus aprašymas. Pvz., „Dėl to, kad MM modelyje trūksta kai kurių specialių atvejų, sistema neteisingai apskaičiuoja pašalpų sumą arba pateikia atsisakymą jas skirti“.
A12: 7.5 | B12: O5 galimos grėsmės scenarijus (jei yra) | D12: Trumpas vieno sakinio scenarijaus aprašymas. Pvz., „MM modelio netikslumai sukelia finansinius nuostolius administracinių procedūrų naudos gavėjams“.
A13: 7.6 | B13: O6 galimos grėsmės scenarijus (jei yra) | D13: Trumpas vieno sakinio scenarijaus aprašymas. Pvz., „Dėl šališkumo tam tikrų vardų atžvilgiu asmuo nebus įdarbintas“.
A14: 7.7 | B14: O7 galimos grėsmės scenarijus (jei yra) | D14: Trumpas vieno sakinio scenarijaus aprašymas. Pvz., „Personalo vadovo sprendimų priėmimo mechanizmai rekomenduoja pradėti drausminį procesą, remiantis vien tik neigiamais kolegų atsiliepimais“.
A15: 7.8 | B15: O8 galimos grėsmės scenarijus (jei yra) | D15: Trumpas vieno sakinio scenarijaus aprašymas. Pvz., „MM modelis, naudojamas psichologinės sveikatos konsultacijoms, nebuvo apmokytas spręsti problemas, kurių dažniau kyla vyrams“.
A16: 7.9 | B16: O9 galimos grėsmės scenarijus (jei yra) | D16: Trumpas vieno sakinio scenarijaus aprašymas. Pvz., „Vaizdo atpažinimo modelis klaidingai nustato, kad apsikabinę asmenys mušasi, ir automatiškai nukreipia teisėsaugos pareigūnus į įvykio vietą“.
A18: Kriterijai, pagal kuriuos grėsmė įtraukiama į vertinimą
A19: Klausimas | C19: Pasirinkta riba | D19: Ribos taikymo pavyzdžiai
A20: Ar grėsmė gali sukelti žalą sveikatai, mirtį ar organizacijos veiklos nutraukimą? | C20: Taip | D20: „Taip“. Grėsmė turi būti įvertinta, jei ji gali sukelti fizinę žalą, mirtį ar veiklos nutraukimą.
A21: Laikotarpis, per kurį grėsmė gali pasireikšti | D21: Pvz.: 10 arba 5
A22: Kiek žmonių gali būti paveikti grėsmės (sveikasis skaičius arba procentinė populiacijos dalis) | D22: Pvz.: grėsmė per metus paveikia mažiausiai 5 asmenis arba 5 organizacijas, arba 0,1 proc. populiacijos.
C23: Pastaba! Prieš vertinimą užpildykite šviesiai pilkus langelius. Jei vėliau juos pakeisite, reikės pakartotinai atlikti visko, kam taikomi šie kriterijai, vertinimą!

Sheet Įvertintos grėsmės (G)
A2: DI arba algoritminės sprendimų priėmimo sistemos šališkumo grėsmių vertinimas
A3: ='Įvadas (0)'!A41 -> Versija 1.1 (2025-10-15, Cybernetica, D-16-585) – D-16-573 versijos 1.1 vertimas
A5: O1 | B5: 1 grėsmės aprašymas
A6: O1.1 | B6: Grėsmės scenarijus [GS] (nukopijuokite pavadinimą iš ankstesnio darbo lapo) | D6: Pastaba! Galima žala turi būti aiškiai įvardyta. Pvz.: „MM modelio netikslumai sukelia finansinius nuostolius tikėtinam administracinio proceso naudos gavėjui“.
A7: O1.2 | B7: Įvykiai, lėmę GS pasireiškimą | D7: Aprašykite, kokie (galbūt nuoseklūs) įvykiai turi įvykti, kad grėsmė pasireikštų. Pastaba! Remkitės konkrečiu DI naudojimo scenarijumi! Žr. šį pavyzdį (bet stenkitės būti dar konkretesni): „DI naudojimo scenarijaus A metu DI komponentas veikia skirtingai, priklausomai nuo įvesties užklausos kalbos, ir, jei įvesties duomenys yra estų kalba, klaidingų rezultatų pasitaiko dažniau. Dėl klaidingai pateiktų išvesties duomenų administracinėje procedūroje dalyvaujantis sistemos naudotojas gali priimti neteisingą sprendimą, suvaržantį asmens teises“.
A8: O1.3 | B8: GS pasireiškimo sąlygos | D8: Pavyzdžiai: naudotojas nėra apmokytas ir nevaliduoja išvesties duomenų; mokymo duomenys gali būti šališki dėl nereprezentatyvumo, mokymo metodika sustiprina šališkumą, algoritmas yra jautrus konkrečių duomenų intervalams, MM modelis yra netikslus arba šališkas, įvesties duomenys yra netikslūs, procesas yra pernelyg automatizuotas; šališkumas pasireiškia tam tikrų naudotojų atžvilgiu, kyla grėsmė informacijos saugumui arba duomenų apsaugai.
A9: O1.4 | B9: Įrodymai, kad GS yra realistiškas | D9: Išvados, padarytos remiantis DI sistemos ar modelio dokumentacija, bandymų metu imituotais grėsmės įvykiais, panašiais grėsmės įvykiais valstybėje ar kitur; pažeidžiamumas, susijęs su operaciniu modeliu, kokybės kontrolės ar mokymų trūkumu.
A10: O1.5 | B10: Teisės aktai, kurie būtų pažeisti, jei grėsmė pasireikštų | D10: Jei grėsmė pasireiškia, ar sistemos savininkas, diegėjas ar naudotojas pažeidžia galiojantį teisės aktą, ar tai keičia jo teisinį statusą. Pvz., jei DI sistema teikia šališkus patarimus dėl įdarbinimo ar atleidimo iš darbo, tai yra didelės rizikos DI sistema.
A11: O1.6 | B11: Jau taikomos apsaugos priemonės | D11: Kokių priemonių buvo imtasi siekiant išvengti grėsmės pasireiškimo sistemoje? Kokių papildomų priemonių? Modelio priimtinumo bandymai prieš integruojant sistemą? Regresijos bandymai algoritmo ir modelio versijų atnaujinimams? Auditas? Skaidrumo priemonės? Paaiškinamųjų MM modelių pasirinkimas?
A12: O1.7 | B12: Galimos papildomos apsaugos priemonės | D12: Ką būtų galima padaryti, kad sumažėtų grėsmės pasireiškimo tikimybė? Papildomas įvesties duomenų validavimas, naudotojo sąsajos kūrimas taip, kad išvesties validavimas būtų privalomas, tikslesnio modelio, geriau dokumentuojamo produkto pasirinkimas ir pan. Papildomi bandymai.
A13: O1.8 | B13: Numatomas GS poveikis | D13: Mažas (1); Vidutinis (2); Didelis (3); Labai didelis (4) + paaiškinimai
A14: O1.9 | B14: Numatoma GS pasireiškimo tikimybė | D14: Maža (1); Vidutinė (2); Didelė (3); Labai didelė (4) + paaiškinimai
A15: O1.X | B15: Nuorodos ir šaltiniai | D15: Nuorodos, pvz., į taikytas skales, poveikio analizę, grėsmių vertinimo susitikimų protokolus ir pan.
A17: O2 | B17: 2 grėsmės aprašymas
A18: O2.1 | B18: Grėsmės scenarijus [GS] (nukopijuokite pavadinimą iš ankstesnio darbo lapo) | D18: Pastaba! Galima žala turi būti aiškiai įvardyta. Pvz.: „MM modelio netikslumai sukelia finansinius nuostolius tikėtinam administracinio proceso naudos gavėjui“.
A19: O2.2 | B19: Įvykiai, lėmę GS pasireiškimą | D19: Aprašykite, kokie (galbūt nuoseklūs) įvykiai turi įvykti, kad grėsmė pasireikštų. Pastaba! Remkitės konkrečiu DI naudojimo scenarijumi! Žr. šį pavyzdį (bet stenkitės būti dar konkretesni): „DI naudojimo scenarijaus A metu DI komponentas veikia skirtingai, priklausomai nuo įvesties užklausos kalbos, ir, jei įvesties duomenys yra estų kalba, klaidingų rezultatų pasitaiko dažniau. Dėl klaidingai pateiktų išvesties duomenų administracinėje procedūroje dalyvaujantis sistemos naudotojas gali priimti neteisingą sprendimą, suvaržantį asmens teises“.
A20: O2.3 | B20: GS pasireiškimo sąlygos | D20: Pavyzdžiai: naudotojas nėra apmokytas ir nevaliduoja išvesties duomenų; mokymo duomenys gali būti šališki dėl nereprezentatyvumo, mokymo metodika sustiprina šališkumą, algoritmas yra jautrus konkrečių duomenų intervalams, MM modelis yra netikslus arba šališkas, įvesties duomenys yra netikslūs, procesas yra pernelyg automatizuotas; šališkumas pasireiškia tam tikrų naudotojų atžvilgiu, kyla grėsmė informacijos saugumui arba duomenų apsaugai.
A21: O2.4 | B21: Įrodymai, kad GS yra realistiškas | D21: Išvados, padarytos remiantis DI sistemos ar modelio dokumentacija, bandymų metu imituotais grėsmės įvykiais, panašiais grėsmės įvykiais valstybėje ar kitur; pažeidžiamumas, susijęs su operaciniu modeliu, kokybės kontrolės ar mokymų trūkumu.
A22: O2.5 | B22: Teisės aktai, kurie būtų pažeisti, jei grėsmė pasireikštų | D22: Jei grėsmė pasireiškia, ar sistemos savininkas, diegėjas ar naudotojas pažeidžia galiojantį teisės aktą, ar tai keičia jo teisinį statusą. Pvz., jei DI sistema teikia šališkus patarimus dėl įdarbinimo ar atleidimo iš darbo, tai yra didelės rizikos DI sistema.
A23: O2.5 | B23: Jau taikomos apsaugos priemonės | D23: Kokių priemonių buvo imtasi siekiant išvengti grėsmės pasireiškimo sistemoje? Kokių papildomų priemonių? Modelio priimtinumo bandymai prieš integruojant sistemą? Regresijos bandymai algoritmo ir modelio versijų atnaujinimams? Auditas? Skaidrumo priemonės? Paaiškinamųjų MM modelių pasirinkimas?
A24: O2.7 | B24: Galimos papildomos apsaugos priemonės | D24: Ką būtų galima padaryti, kad sumažėtų grėsmės pasireiškimo tikimybė? Papildomas įvesties duomenų validavimas, naudotojo sąsajos kūrimas taip, kad išvesties validavimas būtų privalomas, tikslesnio modelio, geriau dokumentuojamo produkto pasirinkimas ir pan. Papildomi bandymai.
A25: O2.8 | B25: Numatomas GS poveikis | D25: Mažas (1); Vidutinis (2); Didelis (3); Labai didelis (4) + paaiškinimai
A26: O2.9 | B26: Numatoma GS pasireiškimo tikimybė | D26: Maža (1); Vidutinė (2); Didelė (3); Labai didelė (4) + paaiškinimai
A27: O2.X | B27: Nuorodos ir šaltiniai | D27: Nuorodos, pvz., į taikytas skales, poveikio analizę, grėsmių vertinimo susitikimų protokolus ir pan.
A29: O3 | B29: 3 grėsmės aprašymas
A30: O3.1 | B30: Grėsmės scenarijus [GS] (nukopijuokite pavadinimą iš ankstesnio darbo lapo) | D30: Pastaba! Galima žala turi būti aiškiai įvardyta. Pvz.: „MM modelio netikslumai sukelia finansinius nuostolius tikėtinam administracinio proceso naudos gavėjui“.
A31: O3.2 | B31: Įvykiai, lėmę GS pasireiškimą | D31: Aprašykite, kokie (galbūt nuoseklūs) įvykiai turi įvykti, kad grėsmė pasireikštų. Pastaba! Remkitės konkrečiu DI naudojimo scenarijumi! Žr. šį pavyzdį (bet stenkitės būti dar konkretesni): „DI naudojimo scenarijaus A metu DI komponentas veikia skirtingai, priklausomai nuo įvesties užklausos kalbos, ir, jei įvesties duomenys yra estų kalba, klaidingų rezultatų pasitaiko dažniau. Dėl klaidingai pateiktų išvesties duomenų administracinėje procedūroje dalyvaujantis sistemos naudotojas gali priimti neteisingą sprendimą, suvaržantį asmens teises“.
A32: O3.3 | B32: GS pasireiškimo sąlygos | D32: Pavyzdžiai: naudotojas nėra apmokytas ir nevaliduoja išvesties duomenų; mokymo duomenys gali būti šališki dėl nereprezentatyvumo, mokymo metodika sustiprina šališkumą, algoritmas yra jautrus konkrečių duomenų intervalams, MM modelis yra netikslus arba šališkas, įvesties duomenys yra netikslūs, procesas yra pernelyg automatizuotas; šališkumas pasireiškia tam tikrų naudotojų atžvilgiu, kyla grėsmė informacijos saugumui arba duomenų apsaugai.
A33: O3.4 | B33: Įrodymai, kad GS yra realistiškas | D33: Išvados, padarytos remiantis DI sistemos ar modelio dokumentacija, bandymų metu imituotais grėsmės įvykiais, panašiais grėsmės įvykiais valstybėje ar kitur; pažeidžiamumas, susijęs su operaciniu modeliu, kokybės kontrolės ar mokymų trūkumu.
A34: O3.5 | B34: Teisės aktai, kurie būtų pažeisti, jei grėsmė pasireikštų | D34: Jei grėsmė pasireiškia, ar sistemos savininkas, diegėjas ar naudotojas pažeidžia galiojantį teisės aktą, ar tai keičia jo teisinį statusą. Pvz., jei DI sistema teikia šališkus patarimus dėl įdarbinimo ar atleidimo iš darbo, tai yra didelės rizikos DI sistema.
A35: O3.6 | B35: Jau taikomos apsaugos priemonės | D35: Kokių priemonių buvo imtasi siekiant išvengti grėsmės pasireiškimo sistemoje? Kokių papildomų priemonių? Modelio priimtinumo bandymai prieš integruojant sistemą? Regresijos bandymai algoritmo ir modelio versijų atnaujinimams? Auditas? Skaidrumo priemonės? Paaiškinamųjų MM modelių pasirinkimas?
A36: O3.7 | B36: Galimos papildomos apsaugos priemonės | D36: Ką būtų galima padaryti, kad sumažėtų grėsmės pasireiškimo tikimybė? Papildomas įvesties duomenų validavimas, naudotojo sąsajos kūrimas taip, kad išvesties validavimas būtų privalomas, tikslesnio modelio, geriau dokumentuojamo produkto pasirinkimas ir pan. Papildomi bandymai.
A37: O3.8 | B37: Numatomas GS poveikis | D37: Mažas (1); Vidutinis (2); Didelis (3); Labai didelis (4) + paaiškinimai
A38: O3.9 | B38: Numatoma GS pasireiškimo tikimybė | D38: Maža (1); Vidutinė (2); Didelė (3); Labai didelė (4) + paaiškinimai
A39: O3.X | B39: Nuorodos ir šaltiniai | D39: Nuorodos, pvz., į taikytas skales, poveikio analizę, grėsmių vertinimo susitikimų protokolus ir pan.
A41: O4 | B41: 4 grėsmės aprašymas
A42: O4.1 | B42: Grėsmės scenarijus [GS] (nukopijuokite pavadinimą iš ankstesnio darbo lapo) | D42: Pastaba! Galima žala turi būti aiškiai įvardyta. Pvz.: „MM modelio netikslumai sukelia finansinius nuostolius tikėtinam administracinio proceso naudos gavėjui“.
A43: O4.2 | B43: Įvykiai, lėmę GS pasireiškimą | D43: Aprašykite, kokie (galbūt nuoseklūs) įvykiai turi įvykti, kad grėsmė pasireikštų. Pastaba! Remkitės konkrečiu DI naudojimo scenarijumi! Žr. šį pavyzdį (bet stenkitės būti dar konkretesni): „DI naudojimo scenarijaus A metu DI komponentas veikia skirtingai, priklausomai nuo įvesties užklausos kalbos, ir, jei įvesties duomenys yra estų kalba, klaidingų rezultatų pasitaiko dažniau. Dėl klaidingai pateiktų išvesties duomenų administracinėje procedūroje dalyvaujantis sistemos naudotojas gali priimti neteisingą sprendimą, suvaržantį asmens teises“.
A44: O4.3 | B44: GS pasireiškimo sąlygos | D44: Pavyzdžiai: naudotojas nėra apmokytas ir nevaliduoja išvesties duomenų; mokymo duomenys gali būti šališki dėl nereprezentatyvumo, mokymo metodika sustiprina šališkumą, algoritmas yra jautrus konkrečių duomenų intervalams, MM modelis yra netikslus arba šališkas, įvesties duomenys yra netikslūs, procesas yra pernelyg automatizuotas; šališkumas pasireiškia tam tikrų naudotojų atžvilgiu, kyla grėsmė informacijos saugumui arba duomenų apsaugai.
A45: O4.4 | B45: Įrodymai, kad GS yra realistiškas | D45: Išvados, padarytos remiantis DI sistemos ar modelio dokumentacija, bandymų metu imituotais grėsmės įvykiais, panašiais grėsmės įvykiais valstybėje ar kitur; pažeidžiamumas, susijęs su operaciniu modeliu, kokybės kontrolės ar mokymų trūkumu.
A46: O4.5 | B46: Teisės aktai, kurie būtų pažeisti, jei grėsmė pasireikštų | D46: Jei grėsmė pasireiškia, ar sistemos savininkas, diegėjas ar naudotojas pažeidžia galiojantį teisės aktą, ar tai keičia jo teisinį statusą. Pvz., jei DI sistema teikia šališkus patarimus dėl įdarbinimo ar atleidimo iš darbo, tai yra didelės rizikos DI sistema.
A47: O4.6 | B47: Jau taikomos apsaugos priemonės | D47: Kokių priemonių buvo imtasi siekiant išvengti grėsmės pasireiškimo sistemoje? Kokių papildomų priemonių? Modelio priimtinumo bandymai prieš integruojant sistemą? Regresijos bandymai algoritmo ir modelio versijų atnaujinimams? Auditas? Skaidrumo priemonės? Paaiškinamųjų MM modelių pasirinkimas?
A48: O4.7 | B48: Galimos papildomos apsaugos priemonės | D48: Ką būtų galima padaryti, kad sumažėtų grėsmės pasireiškimo tikimybė? Papildomas įvesties duomenų validavimas, naudotojo sąsajos kūrimas taip, kad išvesties validavimas būtų privalomas, tikslesnio modelio, geriau dokumentuojamo produkto pasirinkimas ir pan. Papildomi bandymai.
A49: O4.8 | B49: Numatomas GS poveikis | D49: Mažas (1); Vidutinis (2); Didelis (3); Labai didelis (4) + paaiškinimai
A50: O4.9 | B50: Numatoma GS pasireiškimo tikimybė | D50: Maža (1); Vidutinė (2); Didelė (3); Labai didelė (4) + paaiškinimai
A51: O4.X | B51: Nuorodos ir šaltiniai | D51: Nuorodos, pvz., į taikytas skales, poveikio analizę, grėsmių vertinimo susitikimų protokolus ir pan.
A53: O5 | B53: 5 grėsmės aprašymas
A54: O5.1 | B54: Grėsmės scenarijus [GS] (nukopijuokite pavadinimą iš ankstesnio darbo lapo) | D54: Pastaba! Galima žala turi būti aiškiai įvardyta. Pvz.: „MM modelio netikslumai sukelia finansinius nuostolius tikėtinam administracinio proceso naudos gavėjui“.
A55: O5.2 | B55: Įvykiai, lėmę GS pasireiškimą | D55: Aprašykite, kokie (galbūt nuoseklūs) įvykiai turi įvykti, kad grėsmė pasireikštų. Pastaba! Remkitės konkrečiu DI naudojimo scenarijumi! Žr. šį pavyzdį (bet stenkitės būti dar konkretesni): „DI naudojimo scenarijaus A metu DI komponentas veikia skirtingai, priklausomai nuo įvesties užklausos kalbos, ir, jei įvesties duomenys yra estų kalba, klaidingų rezultatų pasitaiko dažniau. Dėl klaidingai pateiktų išvesties duomenų administracinėje procedūroje dalyvaujantis sistemos naudotojas gali priimti neteisingą sprendimą, suvaržantį asmens teises“.
A56: O5.3 | B56: GS pasireiškimo sąlygos | D56: Pavyzdžiai: naudotojas nėra apmokytas ir nevaliduoja išvesties duomenų; mokymo duomenys gali būti šališki dėl nereprezentatyvumo, mokymo metodika sustiprina šališkumą, algoritmas yra jautrus konkrečių duomenų intervalams, MM modelis yra netikslus arba šališkas, įvesties duomenys yra netikslūs, procesas yra pernelyg automatizuotas; šališkumas pasireiškia tam tikrų naudotojų atžvilgiu, kyla grėsmė informacijos saugumui arba duomenų apsaugai.
A57: O5.4 | B57: Įrodymai, kad GS yra realistiškas | D57: Išvados, padarytos remiantis DI sistemos ar modelio dokumentacija, bandymų metu imituotais grėsmės įvykiais, panašiais grėsmės įvykiais valstybėje ar kitur; pažeidžiamumas, susijęs su operaciniu modeliu, kokybės kontrolės ar mokymų trūkumu.
A58: O5.5 | B58: Teisės aktai, kurie būtų pažeisti, jei grėsmė pasireikštų | D58: Jei grėsmė pasireiškia, ar sistemos savininkas, diegėjas ar naudotojas pažeidžia galiojantį teisės aktą, ar tai keičia jo teisinį statusą. Pvz., jei DI sistema teikia šališkus patarimus dėl įdarbinimo ar atleidimo iš darbo, tai yra didelės rizikos DI sistema.
A59: O5.6 | B59: Jau taikomos apsaugos priemonės | D59: Kokių priemonių buvo imtasi siekiant išvengti grėsmės pasireiškimo sistemoje? Kokių papildomų priemonių? Modelio priimtinumo bandymai prieš integruojant sistemą? Regresijos bandymai algoritmo ir modelio versijų atnaujinimams? Auditas? Skaidrumo priemonės? Paaiškinamųjų MM modelių pasirinkimas?
A60: O5.7 | B60: Galimos papildomos apsaugos priemonės | D60: Ką būtų galima padaryti, kad sumažėtų grėsmės pasireiškimo tikimybė? Papildomas įvesties duomenų validavimas, naudotojo sąsajos kūrimas taip, kad išvesties validavimas būtų privalomas, tikslesnio modelio, geriau dokumentuojamo produkto pasirinkimas ir pan. Papildomi bandymai.
A61: O5.8 | B61: Numatomas GS poveikis | D61: Mažas (1); Vidutinis (2); Didelis (3); Labai didelis (4) + paaiškinimai
A62: O5.9 | B62: Numatoma GS pasireiškimo tikimybė | D62: Maža (1); Vidutinė (2); Didelė (3); Labai didelė (4) + paaiškinimai
A63: O5.X | B63: Nuorodos ir šaltiniai | D63: Nuorodos, pvz., į taikytas skales, poveikio analizę, grėsmių vertinimo susitikimų protokolus ir pan.
A65: O6 | B65: 6 grėsmės aprašymas
A66: O6.1 | B66: Grėsmės scenarijus [GS] (nukopijuokite pavadinimą iš ankstesnio darbo lapo) | D66: Pastaba! Galima žala turi būti aiškiai įvardyta. Pvz.: „MM modelio netikslumai sukelia finansinius nuostolius tikėtinam administracinio proceso naudos gavėjui“.
A67: O6.2 | B67: Įvykiai, lėmę GS pasireiškimą | D67: Aprašykite, kokie (galbūt nuoseklūs) įvykiai turi įvykti, kad grėsmė pasireikštų. Pastaba! Remkitės konkrečiu DI naudojimo scenarijumi! Žr. šį pavyzdį (bet stenkitės būti dar konkretesni): „DI naudojimo scenarijaus A metu DI komponentas veikia skirtingai, priklausomai nuo įvesties užklausos kalbos, ir, jei įvesties duomenys yra estų kalba, klaidingų rezultatų pasitaiko dažniau. Dėl klaidingai pateiktų išvesties duomenų administracinėje procedūroje dalyvaujantis sistemos naudotojas gali priimti neteisingą sprendimą, suvaržantį asmens teises“.
A68: O6.3 | B68: GS pasireiškimo sąlygos | D68: Pavyzdžiai: naudotojas nėra apmokytas ir nevaliduoja išvesties duomenų; mokymo duomenys gali būti šališki dėl nereprezentatyvumo, mokymo metodika sustiprina šališkumą, algoritmas yra jautrus konkrečių duomenų intervalams, MM modelis yra netikslus arba šališkas, įvesties duomenys yra netikslūs, procesas yra pernelyg automatizuotas; šališkumas pasireiškia tam tikrų naudotojų atžvilgiu, kyla grėsmė informacijos saugumui arba duomenų apsaugai.
A69: O6.4 | B69: Įrodymai, kad GS yra realistiškas | D69: Išvados, padarytos remiantis DI sistemos ar modelio dokumentacija, bandymų metu imituotais grėsmės įvykiais, panašiais grėsmės įvykiais valstybėje ar kitur; pažeidžiamumas, susijęs su operaciniu modeliu, kokybės kontrolės ar mokymų trūkumu.
A70: O6.5 | B70: Teisės aktai, kurie būtų pažeisti, jei grėsmė pasireikštų | D70: Jei grėsmė pasireiškia, ar sistemos savininkas, diegėjas ar naudotojas pažeidžia galiojantį teisės aktą, ar tai keičia jo teisinį statusą. Pvz., jei DI sistema teikia šališkus patarimus dėl įdarbinimo ar atleidimo iš darbo, tai yra didelės rizikos DI sistema.
A71: O6.6 | B71: Jau taikomos apsaugos priemonės | D71: Kokių priemonių buvo imtasi siekiant išvengti grėsmės pasireiškimo sistemoje? Kokių papildomų priemonių? Modelio priimtinumo bandymai prieš integruojant sistemą? Regresijos bandymai algoritmo ir modelio versijų atnaujinimams? Auditas? Skaidrumo priemonės? Paaiškinamųjų MM modelių pasirinkimas?
A72: O6.7 | B72: Galimos papildomos apsaugos priemonės | D72: Ką būtų galima padaryti, kad sumažėtų grėsmės pasireiškimo tikimybė? Papildomas įvesties duomenų validavimas, naudotojo sąsajos kūrimas taip, kad išvesties validavimas būtų privalomas, tikslesnio modelio, geriau dokumentuojamo produkto pasirinkimas ir pan. Papildomi bandymai.
A73: O6.8 | B73: Numatomas GS poveikis | D73: Mažas (1); Vidutinis (2); Didelis (3); Labai didelis (4) + paaiškinimai
A74: O6.9 | B74: Numatoma GS pasireiškimo tikimybė | D74: Maža (1); Vidutinė (2); Didelė (3); Labai didelė (4) + paaiškinimai
A75: O6.X | B75: Nuorodos ir šaltiniai | D75: Nuorodos, pvz., į taikytas skales, poveikio analizę, grėsmių vertinimo susitikimų protokolus ir pan.
A77: O7 | B77: 7 grėsmės aprašymas
A78: O7.1 | B78: Grėsmės scenarijus [GS] (nukopijuokite pavadinimą iš ankstesnio darbo lapo) | D78: Pastaba! Galima žala turi būti aiškiai įvardyta. Pvz.: „MM modelio netikslumai sukelia finansinius nuostolius tikėtinam administracinio proceso naudos gavėjui“.
A79: O7.2 | B79: Įvykiai, lėmę GS pasireiškimą | D79: Aprašykite, kokie (galbūt nuoseklūs) įvykiai turi įvykti, kad grėsmė pasireikštų. Pastaba! Remkitės konkrečiu DI naudojimo scenarijumi! Žr. šį pavyzdį (bet stenkitės būti dar konkretesni): „DI naudojimo scenarijaus A metu DI komponentas veikia skirtingai, priklausomai nuo įvesties užklausos kalbos, ir, jei įvesties duomenys yra estų kalba, klaidingų rezultatų pasitaiko dažniau. Dėl klaidingai pateiktų išvesties duomenų administracinėje procedūroje dalyvaujantis sistemos naudotojas gali priimti neteisingą sprendimą, suvaržantį asmens teises“.
A80: O7.3 | B80: GS pasireiškimo sąlygos | D80: Pavyzdžiai: naudotojas nėra apmokytas ir nevaliduoja išvesties duomenų; mokymo duomenys gali būti šališki dėl nereprezentatyvumo, mokymo metodika sustiprina šališkumą, algoritmas yra jautrus konkrečių duomenų intervalams, MM modelis yra netikslus arba šališkas, įvesties duomenys yra netikslūs, procesas yra pernelyg automatizuotas; šališkumas pasireiškia tam tikrų naudotojų atžvilgiu, kyla grėsmė informacijos saugumui arba duomenų apsaugai.
A81: O7.4 | B81: Įrodymai, kad GS yra realistiškas | D81: Išvados, padarytos remiantis DI sistemos ar modelio dokumentacija, bandymų metu imituotais grėsmės įvykiais, panašiais grėsmės įvykiais valstybėje ar kitur; pažeidžiamumas, susijęs su operaciniu modeliu, kokybės kontrolės ar mokymų trūkumu.
A82: O7.5 | B82: Teisės aktai, kurie būtų pažeisti, jei grėsmė pasireikštų | D82: Jei grėsmė pasireiškia, ar sistemos savininkas, diegėjas ar naudotojas pažeidžia galiojantį teisės aktą, ar tai keičia jo teisinį statusą. Pvz., jei DI sistema teikia šališkus patarimus dėl įdarbinimo ar atleidimo iš darbo, tai yra didelės rizikos DI sistema.
A83: O7.6 | B83: Jau taikomos apsaugos priemonės | D83: Kokių priemonių buvo imtasi siekiant išvengti grėsmės pasireiškimo sistemoje? Kokių papildomų priemonių? Modelio priimtinumo bandymai prieš integruojant sistemą? Regresijos bandymai algoritmo ir modelio versijų atnaujinimams? Auditas? Skaidrumo priemonės? Paaiškinamųjų MM modelių pasirinkimas?
A84: O7.7 | B84: Galimos papildomos apsaugos priemonės | D84: Ką būtų galima padaryti, kad sumažėtų grėsmės pasireiškimo tikimybė? Papildomas įvesties duomenų validavimas, naudotojo sąsajos kūrimas taip, kad išvesties validavimas būtų privalomas, tikslesnio modelio, geriau dokumentuojamo produkto pasirinkimas ir pan. Papildomi bandymai.
A85: O7.8 | B85: Numatomas GS poveikis | D85: Mažas (1); Vidutinis (2); Didelis (3); Labai didelis (4) + paaiškinimai
A86: O7.9 | B86: Numatoma GS pasireiškimo tikimybė | D86: Maža (1); Vidutinė (2); Didelė (3); Labai didelė (4) + paaiškinimai
A87: O7.X | B87: Nuorodos ir šaltiniai | D87: Nuorodos, pvz., į taikytas skales, poveikio analizę, grėsmių vertinimo susitikimų protokolus ir pan.
A89: O8 | B89: 8 grėsmės aprašymas
A90: O8.1 | B90: Grėsmės scenarijus [GS] (nukopijuokite pavadinimą iš ankstesnio darbo lapo) | D90: Pastaba! Galima žala turi būti aiškiai įvardyta. Pvz.: „MM modelio netikslumai sukelia finansinius nuostolius tikėtinam administracinio proceso naudos gavėjui“.
A91: O8.2 | B91: Įvykiai, lėmę GS pasireiškimą | D91: Aprašykite, kokie (galbūt nuoseklūs) įvykiai turi įvykti, kad grėsmė pasireikštų. Pastaba! Remkitės konkrečiu DI naudojimo scenarijumi! Žr. šį pavyzdį (bet stenkitės būti dar konkretesni): „DI naudojimo scenarijaus A metu DI komponentas veikia skirtingai, priklausomai nuo įvesties užklausos kalbos, ir, jei įvesties duomenys yra estų kalba, klaidingų rezultatų pasitaiko dažniau. Dėl klaidingai pateiktų išvesties duomenų administracinėje procedūroje dalyvaujantis sistemos naudotojas gali priimti neteisingą sprendimą, suvaržantį asmens teises“.
A92: O8.3 | B92: GS pasireiškimo sąlygos | D92: Pavyzdžiai: naudotojas nėra apmokytas ir nevaliduoja išvesties duomenų; mokymo duomenys gali būti šališki dėl nereprezentatyvumo, mokymo metodika sustiprina šališkumą, algoritmas yra jautrus konkrečių duomenų intervalams, MM modelis yra netikslus arba šališkas, įvesties duomenys yra netikslūs, procesas yra pernelyg automatizuotas; šališkumas pasireiškia tam tikrų naudotojų atžvilgiu, kyla grėsmė informacijos saugumui arba duomenų apsaugai.
A93: O8.4 | B93: Įrodymai, kad GS yra realistiškas | D93: Išvados, padarytos remiantis DI sistemos ar modelio dokumentacija, bandymų metu imituotais grėsmės įvykiais, panašiais grėsmės įvykiais valstybėje ar kitur; pažeidžiamumas, susijęs su operaciniu modeliu, kokybės kontrolės ar mokymų trūkumu.
A94: O8.5 | B94: Teisės aktai, kurie būtų pažeisti, jei grėsmė pasireikštų | D94: Jei grėsmė pasireiškia, ar sistemos savininkas, diegėjas ar naudotojas pažeidžia galiojantį teisės aktą, ar tai keičia jo teisinį statusą. Pvz., jei DI sistema teikia šališkus patarimus dėl įdarbinimo ar atleidimo iš darbo, tai yra didelės rizikos DI sistema.
A95: O8.6 | B95: Jau taikomos apsaugos priemonės | D95: Kokių priemonių buvo imtasi siekiant išvengti grėsmės pasireiškimo sistemoje? Kokių papildomų priemonių? Modelio priimtinumo bandymai prieš integruojant sistemą? Regresijos bandymai algoritmo ir modelio versijų atnaujinimams? Auditas? Skaidrumo priemonės? Paaiškinamųjų MM modelių pasirinkimas?
A96: O8.7 | B96: Galimos papildomos apsaugos priemonės | D96: Ką būtų galima padaryti, kad sumažėtų grėsmės pasireiškimo tikimybė? Papildomas įvesties duomenų validavimas, naudotojo sąsajos kūrimas taip, kad išvesties validavimas būtų privalomas, tikslesnio modelio, geriau dokumentuojamo produkto pasirinkimas ir pan. Papildomi bandymai.
A97: O8.8 | B97: Numatomas GS poveikis | D97: Mažas (1); Vidutinis (2); Didelis (3); Labai didelis (4) + paaiškinimai
A98: O8.9 | B98: Numatoma GS pasireiškimo tikimybė | D98: Maža (1); Vidutinė (2); Didelė (3); Labai didelė (4) + paaiškinimai
A99: O8.X | B99: Nuorodos ir šaltiniai | D99: Nuorodos, pvz., į taikytas skales, poveikio analizę, grėsmių vertinimo susitikimų protokolus ir pan.
A101: O9 | B101: 9 grėsmės aprašymas
A102: O9.1 | B102: Grėsmės scenarijus [GS] (nukopijuokite pavadinimą iš ankstesnio darbo lapo) | D102: Pastaba! Galima žala turi būti aiškiai įvardyta. Pvz.: „MM modelio netikslumai sukelia finansinius nuostolius tikėtinam administracinio proceso naudos gavėjui“.
A103: O9.2 | B103: Įvykiai, lėmę GS pasireiškimą | D103: Aprašykite, kokie (galbūt nuoseklūs) įvykiai turi įvykti, kad grėsmė pasireikštų. Pastaba! Remkitės konkrečiu DI naudojimo scenarijumi! Žr. šį pavyzdį (bet stenkitės būti dar konkretesni): „DI naudojimo scenarijaus A metu DI komponentas veikia skirtingai, priklausomai nuo įvesties užklausos kalbos, ir, jei įvesties duomenys yra estų kalba, klaidingų rezultatų pasitaiko dažniau. Dėl klaidingai pateiktų išvesties duomenų administracinėje procedūroje dalyvaujantis sistemos naudotojas gali priimti neteisingą sprendimą, suvaržantį asmens teises“.
A104: O9.3 | B104: GS pasireiškimo sąlygos | D104: Pavyzdžiai: naudotojas nėra apmokytas ir nevaliduoja išvesties duomenų; mokymo duomenys gali būti šališki dėl nereprezentatyvumo, mokymo metodika sustiprina šališkumą, algoritmas yra jautrus konkrečių duomenų intervalams, MM modelis yra netikslus arba šališkas, įvesties duomenys yra netikslūs, procesas yra pernelyg automatizuotas; šališkumas pasireiškia tam tikrų naudotojų atžvilgiu, kyla grėsmė informacijos saugumui arba duomenų apsaugai.
A105: O9.4 | B105: Įrodymai, kad GS yra realistiškas | D105: Išvados, padarytos remiantis DI sistemos ar modelio dokumentacija, bandymų metu imituotais grėsmės įvykiais, panašiais grėsmės įvykiais valstybėje ar kitur; pažeidžiamumas, susijęs su operaciniu modeliu, kokybės kontrolės ar mokymų trūkumu.
A106: O9.5 | B106: Teisės aktai, kurie būtų pažeisti, jei grėsmė pasireikštų | D106: Jei grėsmė pasireiškia, ar sistemos savininkas, diegėjas ar naudotojas pažeidžia galiojantį teisės aktą, ar tai keičia jo teisinį statusą. Pvz., jei DI sistema teikia šališkus patarimus dėl įdarbinimo ar atleidimo iš darbo, tai yra didelės rizikos DI sistema.
A107: O9.6 | B107: Jau taikomos apsaugos priemonės | D107: Kokių priemonių buvo imtasi siekiant išvengti grėsmės pasireiškimo sistemoje? Kokių papildomų priemonių? Modelio priimtinumo bandymai prieš integruojant sistemą? Regresijos bandymai algoritmo ir modelio versijų atnaujinimams? Auditas? Skaidrumo priemonės? Paaiškinamųjų MM modelių pasirinkimas?
A108: O9.7 | B108: Galimos papildomos apsaugos priemonės | D108: Ką būtų galima padaryti, kad sumažėtų grėsmės pasireiškimo tikimybė? Papildomas įvesties duomenų validavimas, naudotojo sąsajos kūrimas taip, kad išvesties validavimas būtų privalomas, tikslesnio modelio, geriau dokumentuojamo produkto pasirinkimas ir pan. Papildomi bandymai.
A109: O9.8 | B109: Numatomas GS poveikis | D109: Mažas (1); Vidutinis (2); Didelis (3); Labai didelis (4) + paaiškinimai
A110: O9.9 | B110: Numatoma GS pasireiškimo tikimybė | D110: Maža (1); Vidutinė (2); Didelė (3); Labai didelė (4) + paaiškinimai
...

Sheet Rizikos valdymas (R)
A2: DI sistemos šališkumo rizikos valdymas ir sprendimai
A3: ='Įvadas (0)'!A41 -> Versija 1.1 (2025-10-15, Cybernetica, D-16-585) – D-16-573 versijos 1.1 vertimas
A5: Kriterijai, pagal kuriuos įvertintas grėsmės scenarijus klasifikuojamas kaip reikšmingas ir įtraukiamas į rizikos valdymo procesą.
A6: Nr. | B6: Riba | D6: Ribos taikymo pavyzdžiai
A7: 1 | D7: Pvz.: įvertintos grėsmės pasireiškimo tikimybė arba poveikis yra maksimalus (dažniausiai skiriamas balas yra 4) arba artimas maksimaliam (vidurkis didesnis nei 3,5).
A8: 2 | D8: Pvz.: įvertintos grėsmės pasireiškimo tikimybės ir poveikio sandauga viršija tam tikrą ribą (pvz., 10 ar daugiau).
A9: 3 | D9: Pvz.: Didelis poveikio ir pasireiškimo tikimybės balų svyravimas (vertintojų nuomonės skiriasi).
B10: Pastaba! Prieš vertinimą užpildykite šviesiai pilkus langelius. Jei vėliau juos pakeisite, reikės pakartotinai atlikti visko, kam taikomi šie kriterijai, vertinimą!
A12: R1 | B12: 1 reikšmingos rizikos valdymas
A13: R1.1 | B13: Reikšmingos rizikos scenarijaus aprašymas | D13: Pavadinimas turi atitikti pavadinimą, nurodytą darbo lape „Įvertintos grėsmės (G)“.
A14: R1.2 | B14: Priežastis, kodėl ji laikoma reikšminga | D14: Priežastys, dėl kurių grėsmė laikoma taikytina ir buvo pasirinkta rizikos analizei. Ar poveikis ar pasireiškimo tikimybė buvo dideli, ar dėl kokios nors kitos priežasties?
A15: R1.3 | B15: Patvirtintos papildomos techninės priemonės | D15: Pvz.: kito produkto, algoritmo ar modelio pasirinkimas, naudotojo sąsajos pakeitimai, parametrų optimizavimas. Modelio pakartotinis mokymas, įtraukiant papildomus mokymo duomenis ir pan.
A16: R1.4 | B16: Patvirtintos papildomos organizacinės priemonės | D16: Pvz.: veikimo režimo pakeitimai, papildomi mokymai, skaidrumo priemonės, sistemos taikymo srities apribojimas ir pan.
A17: R1.5 | B17: Patikslintas poveikio vertinimas, atsižvelgiant į papildomų priemonių taikymą | D17: Mažas (1); Vidutinis (2); Didelis (3); Labai didelis (4) + paaiškinimai
A18: R1.6 | B18: Patikslintas pasireiškimo tikimybės įvertinimas, atsižvelgiant į papildomų priemonių taikymą | D18: Maža (1); Vidutinė (2); Didelė (3); Labai didelė (4) + paaiškinimai
A19: R1.7 | B19: Likutinė rizika | D19: Ar grėsmės scenarijaus pasireiškimas vis dar įmanomas? Kokiomis aplinkybėmis? Su kokiais apribojimais? Koks jo mastas?
A20: R1.8 | B20: Sprendimas dėl likutinės rizikos prisiėmimo | D20: Priimtina arba nepriimtina. Pagrįskite sprendimą!
A21: R1.X | B21: Nuorodos ir šaltiniai | D21: Nuorodos į medžiagą, naudotą pildant šį skirsnį, arba vertinimo dokumentai
A23: R2 | B23: 2 reikšmingos rizikos valdymas
A24: R2.1 | B24: Reikšmingos rizikos scenarijaus aprašymas | D24: Pavadinimas turi atitikti pavadinimą, nurodytą darbo lape „Įvertintos grėsmės (G)“.
A25: R2.2 | B25: Priežastis, kodėl ji laikoma reikšminga | D25: Priežastys, dėl kurių grėsmė laikoma taikytina ir buvo pasirinkta rizikos analizei. Ar poveikis ar pasireiškimo tikimybė buvo dideli, ar dėl kokios nors kitos priežasties?
A26: R2.3 | B26: Patvirtintos papildomos techninės priemonės | D26: Pvz.: kito produkto, algoritmo ar modelio pasirinkimas, naudotojo sąsajos pakeitimai, parametrų optimizavimas. Modelio pakartotinis mokymas, įtraukiant papildomus mokymo duomenis ir pan.
A27: R2.4 | B27: Patvirtintos papildomos organizacinės priemonės | D27: Pvz.: veikimo režimo pakeitimai, papildomi mokymai, skaidrumo priemonės, sistemos taikymo srities apribojimas ir pan.
A28: R2.5 | B28: Patikslintas poveikio vertinimas, atsižvelgiant į papildomų priemonių taikymą | D28: Mažas (1); Vidutinis (2); Didelis (3); Labai didelis (4) + paaiškinimai
A29: R2.6 | B29: Patikslintas pasireiškimo tikimybės įvertinimas, atsižvelgiant į papildomų priemonių taikymą | D29: Maža (1); Vidutinė (2); Didelė (3); Labai didelė (4) + paaiškinimai
A30: R2.7 | B30: Likutinė rizika | D30: Ar grėsmės scenarijaus pasireiškimas vis dar įmanomas? Kokiomis aplinkybėmis? Su kokiais apribojimais? Koks jo mastas?
A31: R2.8 | B31: Sprendimas dėl likutinės rizikos prisiėmimo | D31: Priimtina arba nepriimtina. Pagrįskite sprendimą!
A32: R2.X | B32: Nuorodos ir šaltiniai | D32: Nuorodos į medžiagą, naudotą pildant šį skirsnį, arba vertinimo dokumentai
A34: R3 | B34: 3 reikšmingos rizikos valdymas
A35: R3.1 | B35: Reikšmingos rizikos scenarijaus aprašymas | D35: Pavadinimas turi atitikti pavadinimą, nurodytą darbo lape „Įvertintos grėsmės (G)“.
A36: R3.2 | B36: Priežastis, kodėl ji laikoma reikšminga | D36: Priežastys, dėl kurių grėsmė laikoma taikytina ir buvo pasirinkta rizikos analizei. Ar poveikis ar pasireiškimo tikimybė buvo dideli, ar dėl kokios nors kitos priežasties?
A37: R3.3 | B37: Patvirtintos papildomos techninės priemonės | D37: Pvz.: kito produkto, algoritmo ar modelio pasirinkimas, naudotojo sąsajos pakeitimai, parametrų optimizavimas. Modelio pakartotinis mokymas, įtraukiant papildomus mokymo duomenis ir pan.
A38: R3.4 | B38: Patvirtintos papildomos organizacinės priemonės | D38: Pvz.: veikimo režimo pakeitimai, papildomi mokymai, skaidrumo priemonės, sistemos taikymo srities apribojimas ir pan.
A39: R3.5 | B39: Patikslintas poveikio vertinimas, atsižvelgiant į papildomų priemonių taikymą | D39: Mažas (1); Vidutinis (2); Didelis (3); Labai didelis (4) + paaiškinimai
A40: R3.6 | B40: Patikslintas pasireiškimo tikimybės įvertinimas, atsižvelgiant į papildomų priemonių taikymą | D40: Maža (1); Vidutinė (2); Didelė (3); Labai didelė (4) + paaiškinimai
A41: R3.7 | B41: Likutinė rizika | D41: Ar grėsmės scenarijaus pasireiškimas vis dar įmanomas? Kokiomis aplinkybėmis? Su kokiais apribojimais? Koks jo mastas?
A42: R3.8 | B42: Sprendimas dėl likutinės rizikos prisiėmimo | D42: Priimtina arba nepriimtina. Pagrįskite sprendimą!
A43: R3.X | B43: Nuorodos ir šaltiniai | D43: Nuorodos į medžiagą, naudotą pildant šį skirsnį, arba vertinimo dokumentai
A45: R4 | B45: 4 reikšmingos rizikos valdymas
A46: R4.1 | B46: Reikšmingos rizikos scenarijaus aprašymas | D46: Pavadinimas turi atitikti pavadinimą, nurodytą darbo lape „Įvertintos grėsmės (G)“.
A47: R4.2 | B47: Priežastis, kodėl ji laikoma reikšminga | D47: Priežastys, dėl kurių grėsmė laikoma taikytina ir buvo pasirinkta rizikos analizei. Ar poveikis ar pasireiškimo tikimybė buvo dideli, ar dėl kokios nors kitos priežasties?
A48: R4.3 | B48: Patvirtintos papildomos techninės priemonės | D48: Pvz.: kito produkto, algoritmo ar modelio pasirinkimas, naudotojo sąsajos pakeitimai, parametrų optimizavimas. Modelio pakartotinis mokymas, įtraukiant papildomus mokymo duomenis ir pan.
A49: R4.4 | B49: Patvirtintos papildomos organizacinės priemonės | D49: Pvz.: veikimo režimo pakeitimai, papildomi mokymai, skaidrumo priemonės, sistemos taikymo srities apribojimas ir pan.
A50: R4.5 | B50: Patikslintas poveikio vertinimas, atsižvelgiant į papildomų priemonių taikymą | D50: Mažas (1); Vidutinis (2); Didelis (3); Labai didelis (4) + paaiškinimai
A51: R4.6 | B51: Patikslintas pasireiškimo tikimybės įvertinimas, atsižvelgiant į papildomų priemonių taikymą | D51: Maža (1); Vidutinė (2); Didelė (3); Labai didelė (4) + paaiškinimai
A52: R4.7 | B52: Likutinė rizika | D52: Ar grėsmės scenarijaus pasireiškimas vis dar įmanomas? Kokiomis aplinkybėmis? Su kokiais apribojimais? Koks jo mastas?
A53: R4.8 | B53: Sprendimas dėl likutinės rizikos prisiėmimo | D53: Priimtina arba nepriimtina. Pagrįskite sprendimą!
A54: R4.X | B54: Nuorodos ir šaltiniai | D54: Nuorodos į medžiagą, naudotą pildant šį skirsnį, arba vertinimo dokumentai
A56: R5 | B56: 5 reikšmingos rizikos valdymas
A57: R5.1 | B57: Reikšmingos rizikos scenarijaus aprašymas | D57: Pavadinimas turi atitikti pavadinimą, nurodytą darbo lape „Įvertintos grėsmės (G)“.
A58: R5.2 | B58: Priežastis, kodėl ji laikoma reikšminga | D58: Priežastys, dėl kurių grėsmė laikoma taikytina ir buvo pasirinkta rizikos analizei. Ar poveikis ar pasireiškimo tikimybė buvo dideli, ar dėl kokios nors kitos priežasties?
A59: R5.3 | B59: Patvirtintos papildomos techninės priemonės | D59: Pvz.: kito produkto, algoritmo ar modelio pasirinkimas, naudotojo sąsajos pakeitimai, parametrų optimizavimas. Modelio pakartotinis mokymas, įtraukiant papildomus mokymo duomenis ir pan.
A60: R5.4 | B60: Patvirtintos papildomos organizacinės priemonės | D60: Pvz.: veikimo režimo pakeitimai, papildomi mokymai, skaidrumo priemonės, sistemos taikymo srities apribojimas ir pan.
A61: R5.5 | B61: Patikslintas poveikio vertinimas, atsižvelgiant į papildomų priemonių taikymą | D61: Mažas (1); Vidutinis (2); Didelis (3); Labai didelis (4) + paaiškinimai
A62: R5.6 | B62: Patikslintas pasireiškimo tikimybės įvertinimas, atsižvelgiant į papildomų priemonių taikymą | D62: Maža (1); Vidutinė (2); Didelė (3); Labai didelė (4) + paaiškinimai
A63: R5.7 | B63: Likutinė rizika | D63: Ar grėsmės scenarijaus pasireiškimas vis dar įmanomas? Kokiomis aplinkybėmis? Su kokiais apribojimais? Koks jo mastas?
A64: R5.8 | B64: Sprendimas dėl likutinės rizikos prisiėmimo | D64: Priimtina arba nepriimtina. Pagrįskite sprendimą!
A65: R5.X | B65: Nuorodos ir šaltiniai | D65: Nuorodos į medžiagą, naudotą pildant šį skirsnį, arba vertinimo dokumentai
A67: R6 | B67: 6 reikšmingos rizikos valdymas
A68: R6.1 | B68: Reikšmingos rizikos scenarijaus aprašymas | D68: Pavadinimas turi atitikti pavadinimą, nurodytą darbo lape „Įvertintos grėsmės (G)“.
A69: R6.2 | B69: Priežastis, kodėl ji laikoma reikšminga | D69: Priežastys, dėl kurių grėsmė laikoma taikytina ir buvo pasirinkta rizikos analizei. Ar poveikis ar pasireiškimo tikimybė buvo dideli, ar dėl kokios nors kitos priežasties?
A70: R6.3 | B70: Patvirtintos papildomos techninės priemonės | D70: Pvz.: kito produkto, algoritmo ar modelio pasirinkimas, naudotojo sąsajos pakeitimai, parametrų optimizavimas. Modelio pakartotinis mokymas, įtraukiant papildomus mokymo duomenis ir pan.
A71: R6.4 | B71: Patvirtintos papildomos organizacinės priemonės | D71: Pvz.: veikimo režimo pakeitimai, papildomi mokymai, skaidrumo priemonės, sistemos taikymo srities apribojimas ir pan.
A72: R6.5 | B72: Patikslintas poveikio vertinimas, atsižvelgiant į papildomų priemonių taikymą | D72: Mažas (1); Vidutinis (2); Didelis (3); Labai didelis (4) + paaiškinimai
A73: R6.6 | B73: Patikslintas pasireiškimo tikimybės įvertinimas, atsižvelgiant į papildomų priemonių taikymą | D73: Maža (1); Vidutinė (2); Didelė (3); Labai didelė (4) + paaiškinimai
A74: R6.7 | B74: Likutinė rizika | D74: Ar grėsmės scenarijaus pasireiškimas vis dar įmanomas? Kokiomis aplinkybėmis? Su kokiais apribojimais? Koks jo mastas?
A75: R6.8 | B75: Sprendimas dėl likutinės rizikos prisiėmimo | D75: Priimtina arba nepriimtina. Pagrįskite sprendimą!
A76: R6.X | B76: Nuorodos ir šaltiniai | D76: Nuorodos į medžiagą, naudotą pildant šį skirsnį, arba vertinimo dokumentai
A78: R7 | B78: 7 reikšmingos rizikos valdymas
A79: R7.1 | B79: Reikšmingos rizikos scenarijaus aprašymas | D79: Pavadinimas turi atitikti pavadinimą, nurodytą darbo lape „Įvertintos grėsmės (G)“.
A80: R7.2 | B80: Priežastis, kodėl ji laikoma reikšminga | D80: Priežastys, dėl kurių grėsmė laikoma taikytina ir buvo pasirinkta rizikos analizei. Ar poveikis ar pasireiškimo tikimybė buvo dideli, ar dėl kokios nors kitos priežasties?
A81: R7.3 | B81: Patvirtintos papildomos techninės priemonės | D81: Pvz.: kito produkto, algoritmo ar modelio pasirinkimas, naudotojo sąsajos pakeitimai, parametrų optimizavimas. Modelio pakartotinis mokymas, įtraukiant papildomus mokymo duomenis ir pan.
A82: R7.4 | B82: Patvirtintos papildomos organizacinės priemonės | D82: Pvz.: veikimo režimo pakeitimai, papildomi mokymai, skaidrumo priemonės, sistemos taikymo srities apribojimas ir pan.
A83: R7.5 | B83: Patikslintas poveikio vertinimas, atsižvelgiant į papildomų priemonių taikymą | D83: Mažas (1); Vidutinis (2); Didelis (3); Labai didelis (4) + paaiškinimai
A84: R7.6 | B84: Patikslintas pasireiškimo tikimybės įvertinimas, atsižvelgiant į papildomų priemonių taikymą | D84: Maža (1); Vidutinė (2); Didelė (3); Labai didelė (4) + paaiškinimai
A85: R7.7 | B85: Likutinė rizika | D85: Ar grėsmės scenarijaus pasireiškimas vis dar įmanomas? Kokiomis aplinkybėmis? Su kokiais apribojimais? Koks jo mastas?
A86: R7.8 | B86: Sprendimas dėl likutinės rizikos prisiėmimo | D86: Priimtina arba nepriimtina. Pagrįskite sprendimą!
A87: R7.X | B87: Nuorodos ir šaltiniai | D87: Nuorodos į medžiagą, naudotą pildant šį skirsnį, arba vertinimo dokumentai
A89: 8 | B89: 8 reikšmingos rizikos valdymas
A90: R8.1 | B90: Reikšmingos rizikos scenarijaus aprašymas | D90: Pavadinimas turi atitikti pavadinimą, nurodytą darbo lape „Įvertintos grėsmės (G)“.
A91: R8.2 | B91: Priežastis, kodėl ji laikoma reikšminga | D91: Priežastys, dėl kurių grėsmė laikoma taikytina ir buvo pasirinkta rizikos analizei. Ar poveikis ar pasireiškimo tikimybė buvo dideli, ar dėl kokios nors kitos priežasties?
A92: R8.3 | B92: Patvirtintos papildomos techninės priemonės | D92: Pvz.: kito produkto, algoritmo ar modelio pasirinkimas, naudotojo sąsajos pakeitimai, parametrų optimizavimas. Modelio pakartotinis mokymas, įtraukiant papildomus mokymo duomenis ir pan.
A93: R8.4 | B93: Patvirtintos papildomos organizacinės priemonės | D93: Pvz.: veikimo režimo pakeitimai, papildomi mokymai, skaidrumo priemonės, sistemos taikymo srities apribojimas ir pan.
A94: R8.5 | B94: Patikslintas poveikio vertinimas, atsižvelgiant į papildomų priemonių taikymą | D94: Mažas (1); Vidutinis (2); Didelis (3); Labai didelis (4) + paaiškinimai
A95: R8.6 | B95: Patikslintas pasireiškimo tikimybės įvertinimas, atsižvelgiant į papildomų priemonių taikymą | D95: Maža (1); Vidutinė (2); Didelė (3); Labai didelė (4) + paaiškinimai
A96: R8.7 | B96: Likutinė rizika | D96: Ar grėsmės scenarijaus pasireiškimas vis dar įmanomas? Kokiomis aplinkybėmis? Su kokiais apribojimais? Koks jo mastas?
A97: R8.8 | B97: Sprendimas dėl likutinės rizikos prisiėmimo | D97: Priimtina arba nepriimtina. Pagrįskite sprendimą!
A98: R8.X | B98: Nuorodos ir šaltiniai | D98: Nuorodos į medžiagą, naudotą pildant šį skirsnį, arba vertinimo dokumentai
A100: R9 | B100: 9 reikšmingos rizikos valdymas
A101: R9.1 | B101: Reikšmingos rizikos scenarijaus aprašymas | D101: Pavadinimas turi atitikti pavadinimą, nurodytą darbo lape „Įvertintos grėsmės (G)“.
A102: R9.2 | B102: Priežastis, kodėl ji laikoma reikšminga | D102: Priežastys, dėl kurių grėsmė laikoma taikytina ir buvo pasirinkta rizikos analizei. Ar poveikis ar pasireiškimo tikimybė buvo dideli, ar dėl kokios nors kitos priežasties?
A103: R9.3 | B103: Patvirtintos papildomos techninės priemonės | D103: Pvz.: kito produkto, algoritmo ar modelio pasirinkimas, naudotojo sąsajos pakeitimai, parametrų optimizavimas. Modelio pakartotinis mokymas, įtraukiant papildomus mokymo duomenis ir pan.
A104: R9.4 | B104: Patvirtintos papildomos organizacinės priemonės | D104: Pvz.: veikimo režimo pakeitimai, papildomi mokymai, skaidrumo priemonės, sistemos taikymo srities apribojimas ir pan.
A105: R9.5 | B105: Patikslintas poveikio vertinimas, atsižvelgiant į papildomų priemonių taikymą | D105: Mažas (1); Vidutinis (2); Didelis (3); Labai didelis (4) + paaiškinimai
A106: R9.6 | B106: Patikslintas pasireiškimo tikimybės įvertinimas, atsižvelgiant į papildomų priemonių taikymą | D106: Maža (1); Vidutinė (2); Didelė (3); Labai didelė (4) + paaiškinimai
A107: R9.7 | B107: Likutinė rizika | D107: Ar grėsmės scenarijaus pasireiškimas vis dar įmanomas? Kokiomis aplinkybėmis? Su kokiais apribojimais? Koks jo mastas?
A108: R9.8 | B108: Sprendimas dėl likutinės rizikos prisiėmimo | D108: Priimtina arba nepriimtina. Pagrįskite sprendimą!
A109: R9.X | B109: Nuorodos ir šaltiniai | D109: Nuorodos į medžiagą, naudotą pildant šį skirsnį, arba vertinimo dokumentai
A111: R10 | B111: 10 reikšmingos rizikos valdymas

Sheet Išvados (C)
A2: Galutinis DI sistemos šališkumo rizikos vertinimo rezultatas
A3: ='Įvadas (0)'!A41 -> Versija 1.1 (2025-10-15, Cybernetica, D-16-585) – D-16-573 versijos 1.1 vertimas
A5: 1 | B5: DI sistemos aprašymas (nuoroda iš 1 darbo lapo)
A6: 1.1 | B6: Trumpas pavadinimas | C6: ='DI sistemos pasas (1-5)'!C6 | D6: Santrumpa arba trumpas pavadinimas
A7: 1.2 | B7: Visas pavadinimas | C7: ='DI sistemos pasas (1-5)'!C7 | D7: Visas pavadinimas (jei yra)
A8: 1.3 | B8: Versija | C8: ='DI sistemos pasas (1-5)'!C8 | D8: Versijos numeris arba data (MMMM-MM-DD)
A9: 1.4 | B9: Pramonės šaka | C9: ='DI sistemos pasas (1-5)'!C9 | D9: Viešosios paslaugos, sveikatos priežiūra, finansai, teisinės konsultacijos, teisėsauga ir kt.
A10: 1.5 | B10: Operatorius | C10: ='DI sistemos pasas (1-5)'!C10 | D10: Sistemos prieglobos organizacija (priklausomai nuo situacijos, taip pat kūrėjas, diegėjas, integruotojas, paslaugos savininkas ir kt.)
A11: 1.x | B11: Nuorodos ir šaltiniai | C11: ='DI sistemos pasas (1-5)'!C11 | D11: Nuorodos į paslaugą ar programėlę, susijusius teisės aktus; nuorodos į dokumentų valdymo sistemą, susijusių dokumentų pavadinimai
C12: ='DI sistemos pasas (1-5)'!C12
C13: ='DI sistemos pasas (1-5)'!C13
A15: S | B15: Išvada
A16: S.1 | B16: Galutinė išvada dėl priėmimo | D16: Leidimas paleisti sistemą, arba sistemos paleidimas leidžiamas tik įgyvendinus privalomus pakeitimus, arba visiškas sistemos naudojimo nutraukimas.
A17: S.2 | B17: Privalomi pakeitimai | D17: Privalomi veiksmai, kuriuos reikia atlikti prieš pradedant naudoti sistemą
A18: S.3
A19: S.4
A20: S.5
A21: S.6
A22: S.7 | B22: Rekomenduojami pakeitimai | D22: Ką dar būtų galima padaryti, kad sistema veiktų darniai ir būtų galima sumažinti arba sušvelninti būsimus rizikos veiksnius?
A23: S.8
A24: S.9
A25: S.X | B25: Nuorodos ir šaltiniai | D25: Nuoroda į posėdžio protokolą, sprendimą ar išvadą

Sheet Grėsmių vertinimo matrica
A2: Grėsmės vertinimo suvestinė (jei reikia, nukopijuokite šį lapą kiekvienai įvertintai grėsmei)
A3: ='Įvadas (0)'!A41 -> Versija 1.1 (2025-10-15, Cybernetica, D-16-585) – D-16-573 versijos 1.1 vertimas
A5: Grėsmės įvykis
A6: Grėsmės įvykio aprašymas:
A7: Vertinimo laikas ir vieta:
A9: Poveikio vertinimas (Pastaba! Prieš vertinimą užpildykite šviesiai pilkus langelius. Jei vėliau juos pakeisite, reikės pakartotinai atlikti visko, kam taikomi šie kriterijai, vertinimą!)
A10: Grėsmės rūšis | B10: Metrika | C10: Mažas poveikis | D10: Vidutinis poveikis | E10: Didelis poveikis | F10: Labai didelis poveikis
G11: Pavyzdžiai: teisių pažeidimas; asmenų, kurių teisės gali būti pažeistos, skaičius per metus – mažas: 0–5, vidutinis: 5–25, didelis: 25–100, labai didelis: daugiau kaip 100.
G12: Pavyzdžiai: ekonominiai nuostoliai, piniginių nuostolių nuo mėnesinių pajamų procentinė dalis. Maža: 0–10 proc., vidutinė: 10–50 proc., didelė: 50–200 proc., labai didelė: daugiau kaip 200 proc.
G13: Pavyzdžiai: žala sveikatai; per metus nukentėjusių asmenų skaičius: mažas: 0–2, vidutinis: 2–5, didelis: 5–10, labai didelis: daugiau kaip 10.
G14: Pavyzdžiai: finansiniai nuostoliai fiziniams ar juridiniams asmenims; paveiktų asmenų skaičius per mėnesį: mažas: 0–2, vidutinis: 2–5, didelis: 5–10, labai didelis: daugiau nei 10
G15: Pavyzdžiai: pagrįstų reikalavimų dėl žalos atlyginimo paslaugų teikėjo organizacijai skaičius per metus. Mažas: 0–5, vidutinis: 5–10, didelis: 10–25, labai didelis: daugiau nei 25.
G16: Pavyzdžiai: procentinė visos populiacijos dalis, kurios įsitikinimus pakeičia DI sistema. Maža: 0–1 proc., vidutinė: 1–5 proc., didelė: 5–10 proc., labai didelė: daugiau kaip 10 proc. populiacijos.
A18: Pasireiškimo tikimybės vertinimas (Pastaba! Prieš vertinimą užpildykite šviesiai pilkus langelius. Jei vėliau juos pakeisite, reikės pakartotinai atlikti visko, kam taikomi šie kriterijai, vertinimą!)
A19: Maža | G19: Pavyzdžiai: grėsmės pasireiškimas teoriškai yra įmanomas, tačiau tam reikia, kad įvyktų keletas įvykių, o DI komponento šališkumas yra lygus paveiktos populiacijos šališkumui.
A20: Vidutinė | G20: Pavyzdžiai: grėsmės pasireiškimas yra įmanomas, DI komponento šališkumas yra žinomas ir jis skiriasi nuo paveiktos populiacijos šališkumo.
A21: Didelė | G21: Pavyzdžiai: grėsmė greičiausiai pasireikš, DI komponento šališkumas yra nežinomas arba žmogiškosios procedūros, skirtos išvesties duomenims validuoti, yra nepakankamos.
A22: Labai didelė | G22: Pavyzdžiai: grėsmė jau pasireiškė šioje arba labai panašioje sistemoje; pasireiškimas yra beveik garantuotas, nes sistemos trūkumai išryškėjo bandymų metu arba buvo užfiksuoti dokumentuose; sistema priima sprendimus be žmogaus atliekamos priežiūros.
A24: Vertintojo vardas ir pavardė | B24: Poveikis (1–4) | C24: Tikimybė (1–4) | D24: Argumentai
A35: Vidurkis | B35: =AVERAGE(B$25:B$33) -> #DIV/0! | C35: =AVERAGE(C$25:C$33) -> #DIV/0!
A36: Balų moda | B36: =MODE(B$7:B$33) -> #N/A | C36: =MODE(C$7:C$33) -> #N/A
